Package: pipeFrame Version: 1.25.1 Command: /home/biocbuild/R/R/bin/R CMD INSTALL pipeFrame StartedAt: 2025-10-09 22:09:13 -0000 (Thu, 09 Oct 2025) EndedAt: 2025-10-09 22:09:54 -0000 (Thu, 09 Oct 2025) EllapsedTime: 40.6 seconds RetCode: 0 Status: OK