Package: pipeFrame Version: 1.25.1 Command: /home/biocbuild/R/R/bin/R CMD build --keep-empty-dirs --no-resave-data pipeFrame StartedAt: 2025-10-10 03:01:05 -0000 (Fri, 10 Oct 2025) EndedAt: 2025-10-10 03:02:11 -0000 (Fri, 10 Oct 2025) EllapsedTime: 66.1 seconds RetCode: 0 Status: OK PackageFile: pipeFrame_1.25.1.tar.gz PackageFileSize: 1.347 MiB