Package: pipeFrame Version: 1.25.1 Command: /home/biocbuild/bbs-3.22-bioc/R/bin/R CMD build --keep-empty-dirs --no-resave-data --md5 pipeFrame StartedAt: 2025-10-12 19:16:12 -0400 (Sun, 12 Oct 2025) EndedAt: 2025-10-12 19:17:03 -0400 (Sun, 12 Oct 2025) EllapsedTime: 51.0 seconds RetCode: 0 Status: OK PackageFile: pipeFrame_1.25.1.tar.gz PackageFileSize: 1.197 MiB