Package: pipeFrame Version: 1.27.0 Command: /home/biocbuild/bbs-3.23-bioc/R/bin/R CMD INSTALL pipeFrame StartedAt: 2025-11-05 16:05:07 -0500 (Wed, 05 Nov 2025) EndedAt: 2025-11-05 16:05:39 -0500 (Wed, 05 Nov 2025) EllapsedTime: 32.1 seconds RetCode: 0 Status: OK