Package: pipeComp Version: 1.19.0 Command: /home/biocbuild/R/R/bin/R CMD INSTALL pipeComp StartedAt: 2025-10-13 21:46:28 -0000 (Mon, 13 Oct 2025) EndedAt: 2025-10-13 21:47:46 -0000 (Mon, 13 Oct 2025) EllapsedTime: 77.4 seconds RetCode: 0 Status: OK