Package: pipeComp Version: 1.19.0 Command: /home/biocbuild/bbs-3.22-bioc/R/bin/R CMD check --install=check:pipeComp.install-out.txt --library=/home/biocbuild/bbs-3.22-bioc/R/site-library --timings pipeComp_1.19.0.tar.gz StartedAt: 2025-10-16 03:34:18 -0400 (Thu, 16 Oct 2025) EndedAt: 2025-10-16 03:41:45 -0400 (Thu, 16 Oct 2025) EllapsedTime: 447.4 seconds RetCode: 0 Status: OK CheckDir: pipeComp.Rcheck Warnings: 0