Package: pipeComp Version: 1.19.0 Command: /Library/Frameworks/R.framework/Resources/bin/R CMD INSTALL pipeComp StartedAt: 2025-10-15 15:50:04 -0400 (Wed, 15 Oct 2025) EndedAt: 2025-10-15 15:51:30 -0400 (Wed, 15 Oct 2025) EllapsedTime: 85.9 seconds RetCode: 0 Status: OK