Package: pipeComp Version: 1.19.0 Command: /Library/Frameworks/R.framework/Resources/bin/R CMD build --keep-empty-dirs --no-resave-data pipeComp StartedAt: 2025-10-16 19:14:09 -0400 (Thu, 16 Oct 2025) EndedAt: 2025-10-16 19:16:42 -0400 (Thu, 16 Oct 2025) EllapsedTime: 153.7 seconds RetCode: 0 Status: OK PackageFile: pipeComp_1.19.0.tar.gz PackageFileSize: 4.006 MiB