Package: piano Version: 2.27.0 Command: /Library/Frameworks/R.framework/Resources/bin/R CMD INSTALL piano StartedAt: 2025-11-21 15:07:39 -0500 (Fri, 21 Nov 2025) EndedAt: 2025-11-21 15:07:45 -0500 (Fri, 21 Nov 2025) EllapsedTime: 5.9 seconds RetCode: 0 Status: OK