Package: piano Version: 2.27.0 Command: /Library/Frameworks/R.framework/Resources/bin/R CMD build --keep-empty-dirs --no-resave-data piano StartedAt: 2025-11-21 17:16:34 -0500 (Fri, 21 Nov 2025) EndedAt: 2025-11-21 17:16:51 -0500 (Fri, 21 Nov 2025) EllapsedTime: 17.2 seconds RetCode: 0 Status: OK PackageFile: piano_2.27.0.tar.gz PackageFileSize: 1.542 MiB