Package: piano Version: 2.27.0 Command: rm -rf piano.buildbin-libdir && mkdir piano.buildbin-libdir && /Users/biocbuild/BBS/utils/build-universal.sh piano_2.27.0.tar.gz /Library/Frameworks/R.framework/Resources/bin/R piano.buildbin-libdir StartedAt: 2025-11-21 23:45:01 -0500 (Fri, 21 Nov 2025) EndedAt: 2025-11-21 23:45:09 -0500 (Fri, 21 Nov 2025) EllapsedTime: 8.2 seconds RetCode: 0 Status: OK PackageFile: piano_2.27.0.tgz PackageFileSize: 1.643 MiB