Package: phyloseq Version: 1.53.0 Command: /home/biocbuild/R/R/bin/R CMD INSTALL phyloseq StartedAt: 2025-10-23 20:36:16 -0000 (Thu, 23 Oct 2025) EndedAt: 2025-10-23 20:36:52 -0000 (Thu, 23 Oct 2025) EllapsedTime: 35.4 seconds RetCode: 0 Status: OK