Package: phyloseq Version: 1.53.0 Command: /home/biocbuild/R/R/bin/R CMD build --keep-empty-dirs --no-resave-data phyloseq StartedAt: 2025-10-21 02:03:50 -0000 (Tue, 21 Oct 2025) EndedAt: 2025-10-21 02:06:24 -0000 (Tue, 21 Oct 2025) EllapsedTime: 154.1 seconds RetCode: 0 Status: OK PackageFile: phyloseq_1.53.0.tar.gz PackageFileSize: 4.372 MiB