Package: phyloseq Version: 1.55.0 Command: /home/biocbuild/bbs-3.23-bioc/R/bin/R CMD check --install=check:phyloseq.install-out.txt --library=/home/biocbuild/bbs-3.23-bioc/R/site-library --timings phyloseq_1.55.0.tar.gz StartedAt: 2025-11-26 02:42:26 -0500 (Wed, 26 Nov 2025) EndedAt: 2025-11-26 02:48:21 -0500 (Wed, 26 Nov 2025) EllapsedTime: 354.5 seconds RetCode: 1 Status: ERROR CheckDir: phyloseq.Rcheck Warnings: NA