Package: phyloseq Version: 1.53.0 Command: /Library/Frameworks/R.framework/Resources/bin/R CMD INSTALL phyloseq StartedAt: 2025-10-05 15:18:33 -0400 (Sun, 05 Oct 2025) EndedAt: 2025-10-05 15:19:12 -0400 (Sun, 05 Oct 2025) EllapsedTime: 39.2 seconds RetCode: 0 Status: OK