Package: phyloseq Version: 1.53.0 Command: /Library/Frameworks/R.framework/Resources/bin/R CMD build --keep-empty-dirs --no-resave-data phyloseq StartedAt: 2025-10-03 18:28:39 -0400 (Fri, 03 Oct 2025) EndedAt: 2025-10-03 18:31:00 -0400 (Fri, 03 Oct 2025) EllapsedTime: 140.9 seconds RetCode: 0 Status: OK PackageFile: phyloseq_1.53.0.tar.gz PackageFileSize: 6.049 MiB