Package: phyloseq Version: 1.53.0 Command: /Library/Frameworks/R.framework/Resources/bin/R CMD INSTALL phyloseq StartedAt: 2025-10-12 15:08:03 -0400 (Sun, 12 Oct 2025) EndedAt: 2025-10-12 15:08:13 -0400 (Sun, 12 Oct 2025) EllapsedTime: 10.7 seconds RetCode: 0 Status: OK