Package: phosphonormalizer Version: 1.33.0 Command: /home/biocbuild/bbs-3.22-bioc/R/bin/R CMD INSTALL phosphonormalizer StartedAt: 2025-10-03 15:03:37 -0400 (Fri, 03 Oct 2025) EndedAt: 2025-10-03 15:03:47 -0400 (Fri, 03 Oct 2025) EllapsedTime: 10.4 seconds RetCode: 0 Status: OK