Package: phosphonormalizer Version: 1.35.0 Command: /home/biocbuild/bbs-3.23-bioc/R/bin/R CMD INSTALL phosphonormalizer StartedAt: 2025-11-03 15:04:05 -0500 (Mon, 03 Nov 2025) EndedAt: 2025-11-03 15:04:16 -0500 (Mon, 03 Nov 2025) EllapsedTime: 11.0 seconds RetCode: 0 Status: OK