Package: phosphonormalizer Version: 1.35.0 Command: /home/biocbuild/bbs-3.23-bioc/R/bin/R CMD check --install=check:phosphonormalizer.install-out.txt --library=/home/biocbuild/bbs-3.23-bioc/R/site-library --timings phosphonormalizer_1.35.0.tar.gz StartedAt: 2025-11-03 02:08:39 -0500 (Mon, 03 Nov 2025) EndedAt: 2025-11-03 02:10:31 -0500 (Mon, 03 Nov 2025) EllapsedTime: 111.2 seconds RetCode: 0 Status: OK CheckDir: phosphonormalizer.Rcheck Warnings: 0