Package: phosphonormalizer Version: 1.35.0 Command: /home/biocbuild/bbs-3.23-bioc/R/bin/R CMD build --keep-empty-dirs --no-resave-data phosphonormalizer StartedAt: 2025-11-02 19:11:57 -0500 (Sun, 02 Nov 2025) EndedAt: 2025-11-02 19:12:05 -0500 (Sun, 02 Nov 2025) EllapsedTime: 8.0 seconds RetCode: 0 Status: OK PackageFile: phosphonormalizer_1.35.0.tar.gz PackageFileSize: 2.695 MiB