Package: phosphonormalizer Version: 1.33.0 Command: /Library/Frameworks/R.framework/Resources/bin/R CMD INSTALL phosphonormalizer StartedAt: 2025-10-03 15:06:08 -0400 (Fri, 03 Oct 2025) EndedAt: 2025-10-03 15:06:45 -0400 (Fri, 03 Oct 2025) EllapsedTime: 36.9 seconds RetCode: 0 Status: OK