Package: phosphonormalizer Version: 1.33.0 Command: /Library/Frameworks/R.framework/Resources/bin/R CMD build --keep-empty-dirs --no-resave-data phosphonormalizer StartedAt: 2025-10-03 17:20:08 -0400 (Fri, 03 Oct 2025) EndedAt: 2025-10-03 17:20:13 -0400 (Fri, 03 Oct 2025) EllapsedTime: 5.1 seconds RetCode: 0 Status: OK PackageFile: phosphonormalizer_1.33.0.tar.gz PackageFileSize: 2.7 MiB