Package: phosphonormalizer Version: 1.33.0 Command: rm -rf phosphonormalizer.buildbin-libdir && mkdir phosphonormalizer.buildbin-libdir && /Users/biocbuild/BBS/utils/build-universal.sh phosphonormalizer_1.33.0.tar.gz /Library/Frameworks/R.framework/Resources/bin/R phosphonormalizer.buildbin-libdir StartedAt: 2025-10-03 22:50:10 -0400 (Fri, 03 Oct 2025) EndedAt: 2025-10-03 22:50:12 -0400 (Fri, 03 Oct 2025) EllapsedTime: 2.0 seconds RetCode: 0 Status: OK PackageFile: phosphonormalizer_1.33.0.tgz PackageFileSize: 2.709 MiB