Package: philr Version: 1.35.0 Command: /Library/Frameworks/R.framework/Resources/bin/R CMD INSTALL philr StartedAt: 2025-10-16 15:18:28 -0400 (Thu, 16 Oct 2025) EndedAt: 2025-10-16 15:18:32 -0400 (Thu, 16 Oct 2025) EllapsedTime: 4.3 seconds RetCode: 0 Status: OK