Package: philr Version: 1.35.0 Command: /Library/Frameworks/R.framework/Resources/bin/R CMD build --keep-empty-dirs --no-resave-data philr StartedAt: 2025-10-17 17:21:24 -0400 (Fri, 17 Oct 2025) EndedAt: 2025-10-17 17:21:40 -0400 (Fri, 17 Oct 2025) EllapsedTime: 16.2 seconds RetCode: 0 Status: OK PackageFile: philr_1.35.0.tar.gz PackageFileSize: 522.2 KiB