Package: phenopath Version: 1.35.0 Command: /home/biocbuild/bbs-3.23-bioc/R/bin/R CMD INSTALL phenopath StartedAt: 2025-11-20 15:16:51 -0500 (Thu, 20 Nov 2025) EndedAt: 2025-11-20 15:17:24 -0500 (Thu, 20 Nov 2025) EllapsedTime: 33.0 seconds RetCode: 0 Status: OK