Package: phenopath Version: 1.35.0 Command: /home/biocbuild/bbs-3.23-bioc/R/bin/R CMD build --keep-empty-dirs --no-resave-data phenopath StartedAt: 2025-11-20 19:16:39 -0500 (Thu, 20 Nov 2025) EndedAt: 2025-11-20 19:17:29 -0500 (Thu, 20 Nov 2025) EllapsedTime: 50.1 seconds RetCode: 0 Status: OK PackageFile: phenopath_1.35.0.tar.gz PackageFileSize: 1.334 MiB