Package: phenopath Version: 1.33.0 Command: /Library/Frameworks/R.framework/Resources/bin/R CMD INSTALL phenopath StartedAt: 2025-10-24 15:26:47 -0400 (Fri, 24 Oct 2025) EndedAt: 2025-10-24 15:27:29 -0400 (Fri, 24 Oct 2025) EllapsedTime: 41.3 seconds RetCode: 0 Status: OK