Package: phenopath Version: 1.33.0 Command: /Library/Frameworks/R.framework/Resources/bin/R CMD build --keep-empty-dirs --no-resave-data phenopath StartedAt: 2025-10-24 18:15:08 -0400 (Fri, 24 Oct 2025) EndedAt: 2025-10-24 18:16:09 -0400 (Fri, 24 Oct 2025) EllapsedTime: 60.6 seconds RetCode: 0 Status: OK PackageFile: phenopath_1.33.0.tar.gz PackageFileSize: 1.307 MiB