Package: phenomis Version: 1.13.0 Command: /home/biocbuild/bbs-3.23-bioc/R/bin/R CMD INSTALL phenomis StartedAt: 2025-11-21 15:32:32 -0500 (Fri, 21 Nov 2025) EndedAt: 2025-11-21 15:33:13 -0500 (Fri, 21 Nov 2025) EllapsedTime: 41.2 seconds RetCode: 0 Status: OK