Package: phenomis Version: 1.13.0 Command: /Library/Frameworks/R.framework/Resources/bin/R CMD INSTALL phenomis StartedAt: 2025-11-21 15:32:30 -0500 (Fri, 21 Nov 2025) EndedAt: 2025-11-21 15:33:26 -0500 (Fri, 21 Nov 2025) EllapsedTime: 55.6 seconds RetCode: 0 Status: OK