Package: phenomis Version: 1.13.0 Command: /Library/Frameworks/R.framework/Resources/bin/R CMD build --keep-empty-dirs --no-resave-data phenomis StartedAt: 2025-11-21 18:10:58 -0500 (Fri, 21 Nov 2025) EndedAt: 2025-11-21 18:12:46 -0500 (Fri, 21 Nov 2025) EllapsedTime: 108.8 seconds RetCode: 0 Status: OK PackageFile: phenomis_1.13.0.tar.gz PackageFileSize: 3.936 MiB