Package: phenomis Version: 1.13.0 Command: rm -rf phenomis.buildbin-libdir && mkdir phenomis.buildbin-libdir && /Users/biocbuild/BBS/utils/build-universal.sh phenomis_1.13.0.tar.gz /Library/Frameworks/R.framework/Resources/bin/R phenomis.buildbin-libdir StartedAt: 2025-11-22 01:49:28 -0500 (Sat, 22 Nov 2025) EndedAt: 2025-11-22 01:50:29 -0500 (Sat, 22 Nov 2025) EllapsedTime: 61.2 seconds RetCode: 0 Status: OK PackageFile: phenomis_1.13.0.tgz PackageFileSize: 3.972 MiB