Package: phenomis Version: 1.11.0 Command: /Library/Frameworks/R.framework/Resources/bin/R CMD INSTALL phenomis StartedAt: 2025-10-26 15:16:49 -0400 (Sun, 26 Oct 2025) EndedAt: 2025-10-26 15:17:06 -0400 (Sun, 26 Oct 2025) EllapsedTime: 16.1 seconds RetCode: 0 Status: OK