Package: phenomis Version: 1.11.0 Command: /Library/Frameworks/R.framework/Resources/bin/R CMD build --keep-empty-dirs --no-resave-data phenomis StartedAt: 2025-10-26 17:32:14 -0400 (Sun, 26 Oct 2025) EndedAt: 2025-10-26 17:32:49 -0400 (Sun, 26 Oct 2025) EllapsedTime: 35.4 seconds RetCode: 0 Status: OK PackageFile: phenomis_1.11.0.tar.gz PackageFileSize: 3.938 MiB