Package: phenomis Version: 1.11.0 Command: rm -rf phenomis.buildbin-libdir && mkdir phenomis.buildbin-libdir && /Users/biocbuild/BBS/utils/build-universal.sh phenomis_1.11.0.tar.gz /Library/Frameworks/R.framework/Resources/bin/R phenomis.buildbin-libdir StartedAt: 2025-10-26 22:44:02 -0400 (Sun, 26 Oct 2025) EndedAt: 2025-10-26 22:44:19 -0400 (Sun, 26 Oct 2025) EllapsedTime: 16.4 seconds RetCode: 0 Status: OK PackageFile: phenomis_1.11.0.tgz PackageFileSize: 3.974 MiB