Package: phenoTest Version: 1.57.0 Command: /home/biocbuild/bbs-3.22-bioc/R/bin/R CMD INSTALL phenoTest StartedAt: 2025-09-21 15:31:42 -0400 (Sun, 21 Sep 2025) EndedAt: 2025-09-21 15:32:15 -0400 (Sun, 21 Sep 2025) EllapsedTime: 33.4 seconds RetCode: 0 Status: OK