Package: phenoTest Version: 1.59.0 Command: /home/biocbuild/bbs-3.23-bioc/R/bin/R CMD INSTALL phenoTest StartedAt: 2025-11-05 15:37:06 -0500 (Wed, 05 Nov 2025) EndedAt: 2025-11-05 15:37:40 -0500 (Wed, 05 Nov 2025) EllapsedTime: 34.0 seconds RetCode: 0 Status: OK