Package: phenoTest Version: 1.59.0 Command: /home/biocbuild/bbs-3.23-bioc/R/bin/R CMD build --keep-empty-dirs --no-resave-data phenoTest StartedAt: 2025-11-05 19:18:38 -0500 (Wed, 05 Nov 2025) EndedAt: 2025-11-05 19:19:32 -0500 (Wed, 05 Nov 2025) EllapsedTime: 54.1 seconds RetCode: 0 Status: OK PackageFile: phenoTest_1.59.0.tar.gz PackageFileSize: 1.273 MiB