Package: phenoTest Version: 1.57.0 Command: /Library/Frameworks/R.framework/Resources/bin/R CMD build --keep-empty-dirs --no-resave-data phenoTest StartedAt: 2025-10-17 18:45:52 -0400 (Fri, 17 Oct 2025) EndedAt: 2025-10-17 18:47:19 -0400 (Fri, 17 Oct 2025) EllapsedTime: 86.6 seconds RetCode: 0 Status: OK PackageFile: phenoTest_1.57.0.tar.gz PackageFileSize: 1.271 MiB