Package: phenoTest Version: 1.57.0 Command: /Library/Frameworks/R.framework/Resources/bin/R CMD INSTALL phenoTest StartedAt: 2025-09-30 15:10:09 -0400 (Tue, 30 Sep 2025) EndedAt: 2025-09-30 15:10:22 -0400 (Tue, 30 Sep 2025) EllapsedTime: 13.4 seconds RetCode: 0 Status: OK