Package: phenoTest Version: 1.59.0 Maintainer: Evarist Planet MaintainerEmail: evarist.planet at epfl.ch git_url: https://git.bioconductor.org/packages/phenoTest git_branch: devel git_last_commit: 882e53c git_last_commit_date: 2025-10-29 10:06:30 -0400 (Wed, 29 Oct 2025)