Package: phantasusLite Version: 1.9.0 Command: /home/biocbuild/bbs-3.23-bioc/R/bin/R CMD INSTALL phantasusLite StartedAt: 2025-11-11 16:02:44 -0500 (Tue, 11 Nov 2025) EndedAt: 2025-11-11 16:03:01 -0500 (Tue, 11 Nov 2025) EllapsedTime: 16.5 seconds RetCode: 0 Status: OK