Package: phantasusLite Version: 1.9.0 Command: /home/biocbuild/bbs-3.23-bioc/R/bin/R CMD build --keep-empty-dirs --no-resave-data phantasusLite StartedAt: 2025-11-11 19:20:14 -0500 (Tue, 11 Nov 2025) EndedAt: 2025-11-11 19:21:01 -0500 (Tue, 11 Nov 2025) EllapsedTime: 47.1 seconds RetCode: 0 Status: OK PackageFile: phantasusLite_1.9.0.tar.gz PackageFileSize: 233.5 KiB