Package: phantasusLite Version: 1.7.0 Command: /Library/Frameworks/R.framework/Resources/bin/R CMD INSTALL phantasusLite StartedAt: 2025-10-14 15:48:50 -0400 (Tue, 14 Oct 2025) EndedAt: 2025-10-14 15:49:14 -0400 (Tue, 14 Oct 2025) EllapsedTime: 24.4 seconds RetCode: 0 Status: OK