Package: phantasusLite Version: 1.7.0 Command: /Library/Frameworks/R.framework/Resources/bin/R CMD build --keep-empty-dirs --no-resave-data phantasusLite StartedAt: 2025-10-16 19:12:37 -0400 (Thu, 16 Oct 2025) EndedAt: 2025-10-16 19:13:41 -0400 (Thu, 16 Oct 2025) EllapsedTime: 64.3 seconds RetCode: 0 Status: OK PackageFile: phantasusLite_1.7.0.tar.gz PackageFileSize: 233.4 KiB