Package: phantasusLite Version: 1.7.0 Command: rm -rf phantasusLite.buildbin-libdir && mkdir phantasusLite.buildbin-libdir && /Users/biocbuild/BBS/utils/build-universal.sh phantasusLite_1.7.0.tar.gz /Library/Frameworks/R.framework/Resources/bin/R phantasusLite.buildbin-libdir StartedAt: 2025-10-18 03:13:31 -0400 (Sat, 18 Oct 2025) EndedAt: 2025-10-18 03:13:59 -0400 (Sat, 18 Oct 2025) EllapsedTime: 27.8 seconds RetCode: 0 Status: OK PackageFile: phantasusLite_1.7.0.tgz PackageFileSize: 304.2 KiB