Package: phantasus Version: 1.31.0 Command: /home/biocbuild/bbs-3.23-bioc/R/bin/R CMD build --keep-empty-dirs --no-resave-data phantasus StartedAt: 2025-11-20 19:16:06 -0500 (Thu, 20 Nov 2025) EndedAt: 2025-11-20 19:16:48 -0500 (Thu, 20 Nov 2025) EllapsedTime: 42.0 seconds RetCode: 0 Status: OK PackageFile: phantasus_1.31.0.tar.gz PackageFileSize: 9.551 MiB