Package: phantasus Version: 1.31.0 Command: /Library/Frameworks/R.framework/Resources/bin/R CMD INSTALL phantasus StartedAt: 2025-11-20 15:54:42 -0500 (Thu, 20 Nov 2025) EndedAt: 2025-11-20 15:55:30 -0500 (Thu, 20 Nov 2025) EllapsedTime: 48.2 seconds RetCode: 0 Status: OK